Workbook

Sheet Cover & Instructions
B8: Broadcast Studio Facility and Operations Cost Modeller
B9: This spreadsheet is provided as a free tool as part of the 'Cloud Economics for Sports & Entertainment' Whitepaper , available here:
B10: www.entertainmenttechnologists.com/cloud
B12: Version : 1.0
B13: Released : Sept 2025
B14: Client Name:
B16: Instructions | M16: Model Assumptions
B36: Feedback & Customization
B37: To provide any recommended changes or request your own customized version of this tool for your own cloud analysis contact:
B38: mark.turner@entertainmenttechnologists.com

Sheet Inputs
B1: Enter Scenario Inputs, Pricing for Cloud Providers
B2: (white cells for input, colored cells auto-calculate based on inputs)
B4: Scenario Model Inputs | F4: AWS Pricing Inputs - US.West (Oregon) | K4: CoreWeave Pricing Inputs
A5: Storage | B5: Archive (previously stored on LTO) | D5: 3000 | E5: Terabyes in object storage | F5: Storage | G5: IOPS per second | H5: 6640 | I5: (simulatenous max IOPS across all users) | K5: Storage | L5: IOPS per second | M5: 6640 | N5: (simulatenous max IOPS across all users)
B6: Proxy Work in Progress | D6: 800 | E6: Terabyes in object storage (Quantum)
B7: Storage for databases | D7: 0 | E7: Terabytes in object storage | G7: AWS S3 Object Storage | H7: 0.023 | I7: per GB/month | L7: CoreWeave Object Storage | M7: 0.03 | N7: per GB/month
B8: Hi-Res Video Work in Progress | D8: 2000 | E8: Terabyes in object storage | H8: =H7*1024 -> 23.552 | I8: per TB/month | M8: =M7*1024 -> 30.72 | N8: per TB/month
B9: Block storage for Object Storage caching | D9: 20 | E9: Terabytes of NVME
B10: Brio ingest server block storage | D10: 20 | E10: Terabytes of NVME for up to 8 x live HD streams simultaneously | G10: NVME Block Storage | H10: 0.08 | I10: per GB/month | L10: Block Storage (NVME) | M10: 0.07 | N10: per GB/month
B11: Total Cloud Storage | D11: =SUM(D5:D10) -> 5840 | E11: Terabyes | H11: =H10*1024 -> 81.92 | I11: per TB/month | M11: =M10*1024 -> 71.68 | N11: per TB/month
D12: =D11/1024 -> 5.703125 | E12: In petabyes | G12: IOPS | H12: 0.065 | I12: per provisioned IOP each month | L12: IOPS | M12: 0 | N12: per provisioned IOP each month
F13: API Pricing | G13: Put, Copy, Post | H13: 0.005 | I13: per 1000 requests | K13: API Pricing | L13: Put, Copy, Post | M13: 0 | N13: per 1000 requests
A14: Cloud Workstations | B14: Number of full Edit Bays | D14: 12 | E14: (initially 12) | G14: Get, Select | H14: 0.0004 | I14: per 1000 requests | L14: Get, Select | M14: 0 | N14: per 1000 requests
B15: Av Hours per week of use per Edit bay | D15: =10*6 -> 60 | E15: hours per week (initially 10 hours/per day, 6 days/week) | F15: Ingress | G15: to storage | H15: 0 | I15: per GB, free ingress | K15: Ingress | L15: to storage | M15: 0 | N15: per GB, free ingress
B16: Streaming Bitrate of Edit Bay Workstations | D16: 30 | E16: Mbit/s (initially 30) , based on higher bitrate 4:4:4, more motion 1 | F16: Egress | G16: Tier 0 | H16: 0 | I16: per GB, first 1GB/month | K16: Egress | L16: Tier 0 | M16: 0 | N16: per GB, first 1GB/month
B17: IOPS per Edit Bay Workstation | D17: 4000 | E17: per Edit Bay Workstation | G17: Tier 1 | H17: 0.09 | I17: per GB, next 10TB/month | L17: Tier 1 | M17: 0 | N17: per GB, next 10TB/month
D18: =(((D16/8)*60*60)/1024)*D15 -> 791.01562 | E18: GB egressed per workstation per week | G18: Tier 2 | H18: 0.085 | I18: per GB, next 40TB/month | L18: Tier 2 | M18: 0 | N18: per GB, next 40TB/month
B19: Other Creative Workstations | D19: 300 | E19: (initially 300) | G19: Tier 3 | H19: 0.07 | I19: per GB, next 100TB/month | L19: Tier 3 | M19: 0 | N19: per GB, next 100TB/month
B20: Av Hours per week of use per Creative Workstation | D20: =8*6 -> 48 | E20: hours per week (initially 8 hours/per day, 6 days/week) | G20: Tier 4 | H20: 0.05 | I20: per GB, over 150TB per month | L20: Tier 4 | M20: 0 | N20: per GB, over 150TB per month
B21: Streaming Bitrate of Creative Workstations | D21: 10 | E21: Mbit/s (initially 10), based on lower bit rate clipping, marketing use cases 1
B22: IOPS per Creative Workstation | D22: 2000 | E22: per workstation | F22: Compute EC2 | K22: Compute CoreWeave Bare Metal
D23: =(((D21/8)*60*60)/1024)*D20 -> 210.9375 | E23: GB egressed per workstation per week
B24: Master Control Workstations | D24: =16+14+12 -> 42 | E24: (Initially 42 - 16 in Sports, 14 in News, 12 in TOC)
B25: Av Hours per week of use per Creative Workstation | D25: =24*7 -> 168 | E25: hours per week (initially 24 hours/per day,76 days/week)
B26: Streaming Bitrate of Creative Workstations | D26: 10 | E26: Mbit/s (initially 10), based on continuos videos
B27: IOPS per Creative Workstation | D27: 2000 | E27: per workstation
D28: =(((D26/8)*60*60)/1024)*D25 -> 738.28125 | E28: GB egressed per workstation per week
F29: Workstations | G29: G5.4X Large (Nvidia A10) | H29: 2.36 | I29: per VM per hour (inc. Windows license) | K29: Workstations | L29: CoreWeave RTX4000, 16CPU, 64GB | M29: 0.73 | N29: per VM per hour (inc. Windows license)
D30: =(D23*D19)+(D18*D14)+(D28*D24) -> 103781.25 | E30: GB Total Egressed Data for All Workstations per week | G30: Number of Users per machine | H30: 1 | L30: Number of Users per machine | M30: 4 | N30: Initially 4 per RTX4000, could go up to 6 with testing
G31: Cost per hour per User | H31: =H29/H30 -> 2.36 | L31: Cost per hour per User | M31: =M29/M30 -> 0.1825
A32: Playout | B32: Number of News Channels | D32: 10 | E32: Assumed HD 1080i 60fps, 24x7 Channels | F32: Edit Bays | G32: G6.4xlarge (Nvidia L4) | H32: 2.0592 | I32: per VM per hour (inc. Windows license) - limited avails | K32: Edit Bays | L32: CoreWeave A6000 16CPU, 64GB | M32: 1.77 | N32: per VM per hour (inc. Windows license)
B33: Number of Sports Channels | D33: 5 | E33: Assumed HD 1080i 60fps, 24x7 Channels | G33: Number of Users per machine | H33: 1 | L33: Number of Users per machine | M33: 2 | N33: Initially 2 per A6000, could go to up 4 with testing
B34: Total Number of Channels | D34: =D32+D33 -> 15 | G34: Cost per hour per User | H34: =H32/H33 -> 2.0592 | L34: Cost per hour per User | M34: =M32/M33 -> 0.885
B36: Average output bitrate per cable channel (HEVC) | D36: 25 | E36: Mbit/s (initially 25Mbit/s, assumes using HEVC 1080i for headends) | F36: Servers | G36: I3EN.6XL | H36: 3.81 | I36: per hour. Used for Object to File server nodes, Windows | K36: Servers | L36: CoreWeave 41 core,160GB mem, 2GBdisc | M36: 1.43 | N36: per hour. Used for Object to File server nodes,
D37: =((D36/8)*60*60)/1024 -> 10.986328 | E37: Gigabytes per hour per channel | G37: M7i.8xLarge | H37: 3.0848 | I37: per hour. Used for Brio ingest servers (no GPU optimization), Windows | L37: CoreWeave 32Core, 128GB | M37: 0.97 | N37: per hour. Used for Brio ingest servers (no GPU optimization)
G38: G5.4X Large (Nvidia A10) | H38: 2.36 | I38: per hour. GPU optimized servers for Harmonic Spectrum, AmberFin, Adobe conform encodes | L38: RTX4000 | M38: 0.73 | N38: per hour. GPU optimized servers for Harmonic Spectrum, AmberFin, Adobe conform encodes
B39: Average output bitrate per stream to web (VBR) | D39: 2 | E39: Mbit/s (initially 2Mbit/s using HEVC for 24/7 webstream) | G39: t3a.medium | H39: 0.056 | I39: per hour. For ad-insertion server (metadata and scheduling), Windows | L39: CoreWeave 2Cores, 6GB memory | M39: 0.06 | N39: per hour. For ad-insertion server (metadata and scheduling)
D40: =((D39*60*60)/8)/1024 -> 0.87890625 | E40: Gigabytes per hour per channel | G40: R5.xlarge | H40: 0.252 | I40: per hour for SQL databases, Linux | L40: R5.xlarge | M40: 0.252 | N40: per hour for SQL databases
B41: Number of sports clips /highlight packages per channel | D41: =1*D33 -> 5 | E41: per week, initially set at 1 per sports channel per week | F41: Discount | G41: Ratecard Discount Factor | H41: 1 | I41: (eg. Enter 0.9 if you get a 10 discount) | K41: Discount | L41: Ratecard Discount Factor | M41: 1 | N41: (eg. Enter 0.9 if you get a 10 discount)
B42: Average file size of each sports clips/highlight packages | D42: 1000 | E42: Mbytes per package, initially set at 1000Mbytes (~5mins in MPEG2)
B43: Number of news clips /highlight packages per channel | D43: =10*D32 -> 100 | E43: per week, initially set at 10 per news channel
B44: Average file size of each news clips/highlight packages | D44: 250 | E44: Mbytes per package, initially set at 1000Mbytes (~5mins in MPEG2)
B45: Total egress output per week for all linear channels | D45: =(D37+D40)*24*7*D34 -> 29900.391 | E45: Gigabytes per week
B46: Egress output per week for video packages | D46: =((D41*D42)+(D43*D44))/1024 -> 29.296875 | E46: Gigabytes per week
D47: =D45+D46 -> 29929.688 | E47: Gbytes total Egressed data per week for playouts and clip syndication
A49: Server Instances
B50: Harmonic Spectrum MediaGrid Playout Servers | D50: =(D34/5)*2 -> 6 | E50: Assumes 1+1 RTX powered, Initially set as 1 instance for 5 channels
B51: Adobe Media Encoder Servers for Conform | D51: 4 | E51: Assumes 1+1 for A10G (can be less for RTX) for queuing conform encodes
B52: SQL Servers | D52: 2 | E52: Managing content operations databases
B53: Amberfin Playout Servers | D53: =2*D34 -> 30 | E53: Assumes 2 per channel of output for A10, 1 for RTX (1+0 config, non-real time jobs) 3
B54: Ad-Insertion Servers | D54: 2 | E54: 1+1 config. Lightweight server to adjust playlist
B55: Brio Ingest Servers | D55: 6 | E55: Initially set at 6
B56: Object to File Storage servers | D56: 6 | E56: Nodes for managing S3 to file caching & optimization [initially 6 for 4~ petabytes]
C57: Servers for File Prep & Playout | D57: =SUM(D50:D56) -> 56
A59: Software for Cloud Management (over and above on-prem required software)
B60: VM Streaming Licenses | D60: =299/12 -> 24.916667 | E60: Per workstation per month (initially set as $24.92)
B61: Object to File Management License | D61: =15000/50 -> 300 | E61: Per TB per year (initially $15,000 per 50TB)
A63: Network Connectivity
B64: Minimum Internet Connection (diverse 1+1 sources) | D64: 1000 | E64: Mbit/s (1GB up/down)
A70: Footnotes
A71: 1 | B71: We assume higher bitrates for the edit bays as more likely higher frame rates, audio quality. All are based on research and recommended practices from Adobe and Teradici.
B72: PCoIP Audio quality and bandwidth | HP Anyware Support
A73: 2 | B73: We assume moderate graphics insertions and live switching so each GPU instance can output 5 channels. But performance can vary from 1 to 12 channels per instance.Source: https://www.harmonicinc.com/video-streaming/media-servers-storage/spectrum-x/
A74: 3 | B74: Based on spec sheet at https://go.dalet.com/hubfs/Datasheets/Dalet%20AmberFin%20Datasheet.pdf

Sheet AWS Calculations
A1: CALCULATIONS
A2: Amazon Web Services | B2: Per Week | C2: Per Month | D2: Per Year
A3: Storage
A4: Archive (previously stored on LTO) | B4: =C4/4 -> 17664 | C4: =Inputs!H$8*Inputs!D5 -> 70656 | D4: =C4*12 -> 847872
A5: Proxy Work in Progress | B5: =C5/4 -> 4710.4 | C5: =Inputs!H$8*Inputs!D6 -> 18841.6 | D5: =C5*12 -> 226099.2
A6: Hi-Res Video Work in Progress | B6: =C6/4 -> 11776 | C6: =Inputs!H$8*Inputs!D8 -> 47104 | D6: =C6*12 -> 565248
A7: Block storage for Object Storage caching | B7: =C7/4 -> 409.6 | C7: =Inputs!H11*Inputs!D9 -> 1638.4 | D7: =C7*12 -> 19660.8
A8: Brio ingest server block storage | B8: =C8/4 -> 409.6 | C8: =Inputs!H11*Inputs!D10 -> 1638.4 | D8: =C8*12 -> 19660.8
A9: Storage Total | B9: =SUM(B4:B8) -> 34969.6 | C9: =SUM(C4:C8) -> 139878.4 | D9: =C9*12 -> 1678540.8
A11: Compute - Workstations
A12: Cost per Edit Bay | B12: =Inputs!H34*Inputs!D15 -> 123.552 | C12: =D12/12 -> 535.392 | D12: =B12*52 -> 6424.704
A13: Cost for all Edit Bays | B13: =B12*Inputs!D14 -> 1482.624 | C13: =D13/12 -> 6424.704 | D13: =B13*52 -> 77096.448
A14: Cost per CreativeWorkstation | B14: =Inputs!H31*Inputs!D20 -> 113.28 | C14: =D14/12 -> 490.88 | D14: =B14*52 -> 5890.56
A15: Cost for all Creative Workstations | B15: =B14*Inputs!D19 -> 33984 | C15: =D15/12 -> 147264 | D15: =B15*52 -> 1767168
A16: Cost per Master Control Workstations | B16: =Inputs!H31*Inputs!D25 -> 396.48 | C16: =D16/12 -> 1718.08 | D16: =B16*52 -> 20616.96
A17: Cost for all MC Workstations | B17: =B16*Inputs!D24 -> 16652.16 | C17: =D17/12 -> 72159.36 | D17: =B17*52 -> 865912.32
A18: Total Cost for Workstations | B18: =B13+B15+B17 -> 52118.784 | C18: =C13+C15+C17 -> 225848.06 | D18: =D13+D15+D17 -> 2710176.8
A19: GB Egressed from Edit Bays | B19: =Inputs!D18 -> 791.01562 | C19: =D19/12 -> 3427.7344 | D19: =B19*52 -> 41132.812
A20: GB egressed from creative | B20: =Inputs!D23 -> 210.9375 | C20: =D20/12 -> 914.0625 | D20: =B20*52 -> 10968.75
A21: GB egressed from MC machines | B21: =Inputs!D28 -> 738.28125 | C21: =D21/12 -> 3199.2188 | D21: =B21*52 -> 38390.625
A22: Cumulative GB egressed | B22: =B20+B19+B21 -> 1740.2344 | C22: =D22/12 -> 7541.0156 | D22: =B22*52 -> 90492.188
A24: Compute - Servers
A25: Harmonic Spectrum Playout Servers | B25: =Inputs!H38*Inputs!D50*24*7 -> 2378.88 | C25: =B25*4 -> 9515.52 | D25: =B25*52 -> 123701.76
A26: Adobe Media Encoder Servers for Conform | B26: =Inputs!H38*Inputs!D51*24*7 -> 1585.92 | C26: =B26*4 -> 6343.68 | D26: =B26*52 -> 82467.84
A27: Amberfin Playout Servers | B27: =Inputs!H38*Inputs!D53*24*7 -> 11894.4 | C27: =B27*4 -> 47577.6 | D27: =B27*52 -> 618508.8
A28: Ad-Insertion Servers | B28: =Inputs!H39*Inputs!D54*24*7 -> 18.816 | C28: =B28*4 -> 75.264 | D28: =B28*52 -> 978.432
A29: Brio Ingest Servers | B29: =Inputs!H37*Inputs!D55*24*7 -> 3109.4784 | C29: =B29*4 -> 12437.914 | D29: =B29*52 -> 161692.88
A30: Object to File Storage Servers | B30: =Inputs!H36*24*7*Inputs!D56 -> 3840.48 | C30: =B30*4 -> 15361.92 | D30: =B30*52 -> 199704.96
A31: All Servers | B31: =SUM(B25:B30) -> 22827.974 | C31: =SUM(C25:C30) -> 91311.898 | D31: =SUM(D25:D30) -> 1187054.7
A33: Additional Software
A34: Remote Desktop Software License Fee | B34: =C34/4 -> 1943.5 | C34: =Inputs!D60*(Inputs!D19+Inputs!D14) -> 7774 | D34: =C34*12 -> 93288
A35: Object to file software licensing | B35: =C35/4 -> 36500 | C35: =D35/12 -> 146000 | D35: =Inputs!D61*Inputs!D11 -> 1752000
A36: Software Licensing Totals | B36: =SUM(B34:B35) -> 38443.5 | C36: =SUM(C34:C35) -> 153774 | D36: =SUM(D34:D35) -> 1845288
A38: Egress Cost Calculations
A39: Playout all streams in GB | C39: =Inputs!D47*4 -> 119718.75
A40: Data egressed by workstations (GB) | C40: =C22 -> 7541.0156
A41: Total Data Egress (GB) pm | C41: =C40+C39 -> 127259.77
A42: In Terabyytes | C42: =(C41/1000) -> 127.25977
A44: Total Egress (workstations, streams) | F44: Terabyte Teirs
A45: Tier 0 - First 1 GB | B45: =D45/52 -> 0 | C45: =MAX(0, MIN($C$42, G45) - F45)*Inputs!H16 -> 0 | D45: =C45*12 -> 0 | E45: Free | F45: 0 | G45: 0.001
A46: Tier 1 - Next 10TB | B46: =D46/52 -> 207.69231 | C46: =MAX(0, MIN($C$42, G46) - F46)*Inputs!H17*1000 -> 900 | D46: =C46*12 -> 10800 | F46: =G45 -> 0.001 | G46: =F46+10 -> 10.001
A47: Tier 2 - Next 40TB | B47: =D47/52 -> 784.61538 | C47: =MAX(0, MIN($C$42, G47) - F47)*Inputs!H18*1000 -> 3400 | D47: =C47*12 -> 40800 | F47: =G46 -> 10.001 | G47: =G46+40 -> 50.001
A48: Tier 3 - Next 100TB | B48: =D48/52 -> 1248.0262 | C48: =MAX(0, MIN($C$42, G48) - F48)*Inputs!H19*1000 -> 5408.1136 | D48: =C48*12 -> 64897.363 | F48: =G47 -> 50.001 | G48: =G47+100 -> 150.001
A49: Tier 4 - Over 150TB | B49: =D49/52 -> 0 | C49: =MAX(0, MIN($C$42, G49) - F49)*Inputs!H20*1000 -> 0 | D49: =C49*12 -> 0 | F49: =G48 -> 150.001 | G49: And above
A50: Egress Total | B50: =D50/52 -> 2240.3339 | C50: =SUM(C45:C49) -> 9708.1136 | D50: =C50*12 -> 116497.36
A53: AWS Total Scenario Cost | B53: =B50+B9+B18+B31+B36 -> 150600.19 | C53: =C50+C9+C18+C31+C36 -> 620520.48 | D53: =D50+D9+D18+D31+D36 -> 7537557.6
A55: AWS pricing after Discount | B55: =B53*Inputs!$H$41 -> 150600.19 | C55: =C53*Inputs!$H$41 -> 620520.48 | D55: =D53*Inputs!$H$41 -> 7537557.6
A56: Discount Rate | B56: =1-Inputs!H41 -> 0

Sheet CoreWeave Calculations 
A1: CALCULATIONS
A2: CoreWeave | B2: Per Week | C2: Per Month | D2: Per Year
A3: Storage
A4: Archive (previously stored on LTO) | B4: =C4/4 -> 23040 | C4: =Inputs!M$8*Inputs!D5 -> 92160 | D4: =C4*12 -> 1105920
A5: Proxy Work in Progress | B5: =C5/4 -> 6144 | C5: =Inputs!M$8*Inputs!D6 -> 24576 | D5: =C5*12 -> 294912
A6: Hi-Res Video Work in Progress | B6: =C6/4 -> 15360 | C6: =Inputs!M$8*Inputs!D8 -> 61440 | D6: =C6*12 -> 737280
A7: Block storage for Object Storage caching | B7: =C7/4 -> 358.4 | C7: =Inputs!M11*Inputs!D9 -> 1433.6 | D7: =C7*12 -> 17203.2
A8: Brio ingest server block storage | B8: =C8/4 -> 358.4 | C8: =Inputs!M11*Inputs!D10 -> 1433.6 | D8: =C8*12 -> 17203.2
A9: Storage Total | B9: =SUM(B4:B8) -> 45260.8 | C9: =SUM(C4:C8) -> 181043.2 | D9: =C9*12 -> 2172518.4
A11: Compute - Workstations
A12: Cost per Edit Bay | B12: =Inputs!M34*Inputs!D15 -> 53.1 | C12: =D12/12 -> 230.1 | D12: =B12*52 -> 2761.2
A13: Cost for all Edit Bays | B13: =B12*Inputs!D14 -> 637.2 | C13: =D13/12 -> 2761.2 | D13: =B13*52 -> 33134.4
A14: Cost per CreativeWorkstation | B14: =Inputs!M31*Inputs!D20 -> 8.76 | C14: =D14/12 -> 37.96 | D14: =B14*52 -> 455.52
A15: Cost for all Creative Workstations | B15: =B14*Inputs!D19 -> 2628 | C15: =D15/12 -> 11388 | D15: =B15*52 -> 136656
A16: Cost per Master Control Workstations | B16: =Inputs!M31*Inputs!D25 -> 30.66 | C16: =D16/12 -> 132.86 | D16: =B16*52 -> 1594.32
A17: Cost for all MC Workstations | B17: =B16*Inputs!D24 -> 1287.72 | C17: =D17/12 -> 5580.12 | D17: =B17*52 -> 66961.44
A18: Total Cost for Edit Bays & Workstations | B18: =B13+B15+B17 -> 4552.92 | C18: =C13+C15+C17 -> 19729.32 | D18: =D13+D15+D17 -> 236751.84
A19: GB Egressed from Edit Bays | B19: =Inputs!D18 -> 791.01562 | C19: =D19/12 -> 3427.7344 | D19: =B19*52 -> 41132.812
A20: GB egressed from creative workstations | B20: =Inputs!D23 -> 210.9375 | C20: =D20/12 -> 914.0625 | D20: =B20*52 -> 10968.75
A21: GB egressed from MC | B21: =Inputs!D26 -> 10 | C21: =D21/12 -> 43.333333 | D21: =B21*52 -> 520
A22: Cumulative GB egressed | B22: =B20+B19+B21 -> 1011.9531 | C22: =D22/12 -> 4385.1302 | D22: =B22*52 -> 52621.562
A27: Compute - Servers
A28: Harmonic Spectrum Playout Servers | B28: =Inputs!M38*Inputs!D50*24*7 -> 735.84 | C28: =B28*4 -> 2943.36 | D28: =B28*52 -> 38263.68
A29: Adobe Media Encoder Servers for Conform | B29: =Inputs!M38*Inputs!D51*24*7 -> 490.56 | C29: =B29*4 -> 1962.24 | D29: =B29*52 -> 25509.12
A30: Amberfin Playout Servers | B30: =Inputs!M38*Inputs!D53*24*7 -> 3679.2 | C30: =B30*4 -> 14716.8 | D30: =B30*52 -> 191318.4
A31: Ad-Insertion Servers | B31: =Inputs!M39*Inputs!D54*24*7 -> 20.16 | C31: =B31*4 -> 80.64 | D31: =B31*52 -> 1048.32
A32: Brio Ingest Servers | B32: =Inputs!M37*Inputs!D55*24*7 -> 977.76 | C32: =B32*4 -> 3911.04 | D32: =B32*52 -> 50843.52
A33: Object to File Storage Servers | B33: =Inputs!M36*24*7*Inputs!D56 -> 1441.44 | C33: =B33*4 -> 5765.76 | D33: =B33*52 -> 74954.88
A34: All Servers | B34: =SUM(B28:B33) -> 7344.96 | C34: =SUM(C28:C33) -> 29379.84 | D34: =SUM(D28:D33) -> 381937.92
A36: Additional Software
A37: Remote Desktop Software License Fee | B37: =C37/4 -> 1943.5 | C37: =Inputs!D60*(Inputs!D19+Inputs!D14) -> 7774 | D37: =C37*12 -> 93288
A38: Object to file software licensing | B38: =C38/4 -> 36500 | C38: =D38/12 -> 146000 | D38: =Inputs!D61*Inputs!D11 -> 1752000
A39: Software Licensing Totals | B39: =SUM(B37:B38) -> 38443.5 | C39: =SUM(C37:C38) -> 153774 | D39: =SUM(D37:D38) -> 1845288
A41: Egress Cost Calculations
A42: Playout all streams in GB | C42: =Inputs!D47*4 -> 119718.75
A43: Data egressed by workstations (GB) | C43: =C22 -> 4385.1302
A44: Total Data Egress (GB) pm | C44: =C43+C42 -> 124103.88
A45: In Terabyytes | C45: =C44/1000 -> 124.10388
A47: Total Egress (workstations, streams) | F47: Terabyte Teirs
A48: Tier 0 - First 1 GB | B48: =D48/52 -> 0 | C48: =MAX(0, MIN($C$45, G48) - F48)*Inputs!M16 -> 0 | D48: =C48*12 -> 0 | E48: Free | F48: 0 | G48: 0.001
A49: Tier 1 - Next 10TB | B49: =D49/52 -> 0 | C49: =MAX(0, MIN($C$45, G49) - F49)*Inputs!M17 -> 0 | D49: =C49*12 -> 0 | F49: =G48 -> 0.001 | G49: =F49+10 -> 10.001
A50: Tier 2 - Next 40TB | B50: =D50/52 -> 0 | C50: =MAX(0, MIN($C$45, G50) - F50)*Inputs!M18 -> 0 | D50: =C50*12 -> 0 | F50: =G49 -> 10.001 | G50: =G49+40 -> 50.001
A51: Tier 3 - Next 100TB | B51: =D51/52 -> 0 | C51: =MAX(0, MIN($C$45, G51) - F51)*Inputs!M19 -> 0 | D51: =C51*12 -> 0 | F51: =G50 -> 50.001 | G51: =G50+100 -> 150.001
A52: Tier 4 - Over 150TB | B52: =D52/52 -> 0 | C52: =MAX(0, MIN($C$45, G52) - F52)*Inputs!M20 -> 0 | D52: =C52*12 -> 0 | F52: =G51 -> 150.001 | G52: And above
A53: Egress Total | B53: =D53/52 -> 0 | C53: =SUM(C48:C52) -> 0 | D53: =C53*12 -> 0
A56: CoreWeave Total Scenario Cost | B56: =B53+B9+B18+B34+B39 -> 95602.18 | C56: =C53+C9+C18+C34+C39 -> 383926.36 | D56: =D53+D9+D18+D34+D39 -> 4636496.2
A58: CoreWeave pricing after Discount | B58: =B56*Inputs!$H$41 -> 95602.18 | C58: =C56*Inputs!$H$41 -> 383926.36 | D58: =D56*Inputs!$H$41 -> 4636496.2
A59: Discount Rate | B59: =1-Inputs!H41 -> 0

Sheet Output Comparisons
B2: OUTPUT COMPARISONS
C4: AWS | D4: % of total | E4: CoreWeave | F4: % of total | G4: Difference | H4: Delta (%)
B5: Storage Costs | C5: ='AWS Calculations'!D9 -> 1678540.8 | D5: =C5/C$12 -> 0.22269028 | E5: ='CoreWeave Calculations '!D9 -> 2172518.4 | F5: =E5/E$12 -> 0.46856901 | G5: =E5-C5 -> 493977.6 | H5: =G5/C5 -> 0.2942899
B6: Compute Costs
B7: Workstations | C7: ='AWS Calculations'!D18 -> 2710176.8 | D7: =C7/C$12 -> 0.35955636 | E7: ='CoreWeave Calculations '!D18 -> 236751.84 | F7: =E7/E$12 -> 0.051062663 | G7: =E7-C7 -> -2473424.9 | H7: =G7/C7 -> -0.9126434
B8: Servers | C8: ='AWS Calculations'!D31 -> 1187054.7 | D8: =C8/C$12 -> 0.15748532 | E8: ='CoreWeave Calculations '!D34 -> 381937.92 | F8: =E8/E$12 -> 0.082376412 | G8: =E8-C8 -> -805116.75 | H8: =G8/C8 -> -0.67824741
B10: Egress | C10: ='AWS Calculations'!D50 -> 116497.36 | D10: =C10/C$12 -> 0.015455585 | E10: ='CoreWeave Calculations '!D53 -> 0 | F10: =E10/E$12 -> 0 | G10: =E10-C10 -> -116497.36 | H10: =G10/C10 -> -1
B11: Licensing & Other | C11: ='AWS Calculations'!D36 -> 1845288 | D11: =C11/C$12 -> 0.24481246 | E11: ='CoreWeave Calculations '!D39 -> 1845288 | F11: =E11/E$12 -> 0.39799192 | G11: =E11-C11 -> 0 | H11: =G11/C11 -> 0
B12: Annual without Discount | C12: ='AWS Calculations'!D53 -> 7537557.6 | E12: ='CoreWeave Calculations '!D56 -> 4636496.2 | G12: =E12-C12 -> -2901061.4 | H12: =G12/C12 -> -0.38488083
B14: Blanket discount amount | C14: ='AWS Calculations'!B56 -> 0 | E14: ='CoreWeave Calculations '!B59 -> 0
B15: Annual with Discount | C15: ='AWS Calculations'!D55 -> 7537557.6 | E15: ='CoreWeave Calculations '!D58 -> 4636496.2 | G15: =E15-C15 -> -2901061.4 | H15: =G15/C15 -> -0.38488083
B16: Per Month with Discount | C16: =C15/12 -> 628129.8 | E16: =E15/12 -> 386374.68 | G16: =E16-C16 -> -241755.12 | H16: =G16/C16 -> -0.38488083
